BEGIN:VCALENDAR
VERSION:2.0
PRODID:-//dsapgh.org//NONSGML kigkonsult.se iCalcreator 2.30.10//
CALSCALE:GREGORIAN
METHOD:PUBLISH
UID:c080741f-0d80-4810-b7e3-5416046c471b
X-WR-CALDESC:
X-WR-RELCALID:24953ce7e702f3ed80a785ea9ec12ec1
X-WR-TIMEZONE:America/New_York
BEGIN:VTIMEZONE
TZID:America/New_York
BEGIN:STANDARD
TZNAME:EST
DTSTART:20251102T020000
TZOFFSETFROM:-0400
TZOFFSETTO:-0500
RDATE:20261101T020000
END:STANDARD
BEGIN:DAYLIGHT
TZNAME:EDT
DTSTART:20260308T020000
TZOFFSETFROM:-0500
TZOFFSETTO:-0400
RDATE:20270314T020000
END:DAYLIGHT
END:VTIMEZONE
BEGIN:VEVENT
UID:45c62a69-de69-422e-90d9-91f048efa4cd
DTSTAMP:20260422T091207Z
DESCRIPTION:
DTSTART;TZID=America/New_York:20260429T173000
DTEND;TZID=America/New_York:20260429T183000
LOCATION:The Pickleball Warehouse\, 6815 Hamilton Ave.\, Pittsburgh\, PA 15
 208 US
SUMMARY:Buddy Up Pickleball
END:VEVENT
END:VCALENDAR
