BEGIN:VCALENDAR
VERSION:2.0
PRODID:-//dsapgh.org//NONSGML kigkonsult.se iCalcreator 2.30.10//
CALSCALE:GREGORIAN
METHOD:PUBLISH
UID:56337edd-f450-4380-8992-21800df34734
X-WR-CALDESC:
X-WR-RELCALID:25f6bdbfb42e0d670bce5bcfef5e31d7
X-WR-TIMEZONE:America/New_York
BEGIN:VTIMEZONE
TZID:America/New_York
BEGIN:STANDARD
TZNAME:EST
DTSTART:20251102T020000
TZOFFSETFROM:-0400
TZOFFSETTO:-0500
RDATE:20261101T020000
END:STANDARD
BEGIN:DAYLIGHT
TZNAME:EDT
DTSTART:20260308T020000
TZOFFSETFROM:-0500
TZOFFSETTO:-0400
RDATE:20270314T020000
END:DAYLIGHT
END:VTIMEZONE
BEGIN:VEVENT
UID:93eee46d-b9e4-4b94-89a7-a1debc3b1ecd
DTSTAMP:20260422T085309Z
DESCRIPTION:
DTSTART;TZID=America/New_York:20260425T100000
DTEND;TZID=America/New_York:20260425T110000
LOCATION:Brookline Rec Center\, 1400 Brookline Blvd.\, Pittsburgh\, PA 1522
 6 US
SUMMARY:Bridges Adaptive Field Hockey Spring Practice
END:VEVENT
END:VCALENDAR
