BEGIN:VCALENDAR
VERSION:2.0
PRODID:-//dsapgh.org//NONSGML kigkonsult.se iCalcreator 2.30.10//
CALSCALE:GREGORIAN
METHOD:PUBLISH
UID:ad41d9cc-de2c-40df-9a76-ba73b2d3b807
X-WR-CALDESC:
X-WR-RELCALID:875e0b9e9eac0fad9b5e05927fc5e3af
X-WR-TIMEZONE:America/New_York
BEGIN:VTIMEZONE
TZID:America/New_York
BEGIN:STANDARD
TZNAME:EST
DTSTART:20251102T020000
TZOFFSETFROM:-0400
TZOFFSETTO:-0500
RDATE:20261101T020000
END:STANDARD
BEGIN:DAYLIGHT
TZNAME:EDT
DTSTART:20260308T020000
TZOFFSETFROM:-0500
TZOFFSETTO:-0400
RDATE:20270314T020000
END:DAYLIGHT
END:VTIMEZONE
BEGIN:VEVENT
UID:6b96b82c-2066-4de0-a3ce-ca452ab95acf
DTSTAMP:20260422T085215Z
DESCRIPTION:
DTSTART;TZID=America/New_York:20260422T120000
DTEND;TZID=America/New_York:20260422T130000
LOCATION:https://us02web.zoom.us/meeting/register/5EViZQ9cT1qnfYc9kU8fRg
SUMMARY:Speaker Series: Financial Planning
END:VEVENT
END:VCALENDAR
