BEGIN:VCALENDAR
VERSION:2.0
PRODID:-//dsapgh.org//NONSGML kigkonsult.se iCalcreator 2.30.10//
CALSCALE:GREGORIAN
METHOD:PUBLISH
UID:2307f177-ba10-435b-b9c1-854ba0ca2c77
X-WR-CALDESC:
X-WR-RELCALID:48c6e20d2dda8e957b97a75dd2dd3f2c
X-WR-TIMEZONE:America/New_York
BEGIN:VTIMEZONE
TZID:America/New_York
BEGIN:STANDARD
TZNAME:EST
DTSTART:20251102T020000
TZOFFSETFROM:-0400
TZOFFSETTO:-0500
RDATE:20261101T020000
END:STANDARD
BEGIN:DAYLIGHT
TZNAME:EDT
DTSTART:20260308T020000
TZOFFSETFROM:-0500
TZOFFSETTO:-0400
RDATE:20270314T020000
END:DAYLIGHT
END:VTIMEZONE
BEGIN:VEVENT
UID:5dda2d5f-3a10-4290-9516-8e16c14ac3b0
DTSTAMP:20260422T091403Z
DESCRIPTION:
DTSTART;TZID=America/New_York:20260413T180000
DTEND;TZID=America/New_York:20260413T190000
LOCATION:304 N. Wind Ct.\, Gibsonia\, PA 15044 US
SUMMARY:Izabella's Gourmet Chow Cooking Class!
END:VEVENT
END:VCALENDAR
