BEGIN:VCALENDAR
VERSION:2.0
PRODID:-//dsapgh.org//NONSGML kigkonsult.se iCalcreator 2.30.10//
CALSCALE:GREGORIAN
METHOD:PUBLISH
UID:5c93d736-ff16-485e-8c6e-0147ab5d8cc9
X-WR-CALDESC:
X-WR-RELCALID:e0edc5bfa50f8d246c1869b879c89b2a
X-WR-TIMEZONE:America/New_York
BEGIN:VTIMEZONE
TZID:America/New_York
BEGIN:STANDARD
TZNAME:EST
DTSTART:20251102T020000
TZOFFSETFROM:-0400
TZOFFSETTO:-0500
RDATE:20261101T020000
END:STANDARD
BEGIN:DAYLIGHT
TZNAME:EDT
DTSTART:20260308T020000
TZOFFSETFROM:-0500
TZOFFSETTO:-0400
RDATE:20270314T020000
END:DAYLIGHT
END:VTIMEZONE
BEGIN:VEVENT
UID:49b1f0ce-972a-4bfd-b8a7-561266e8b233
DTSTAMP:20260424T085223Z
DESCRIPTION:
DTSTART;TZID=America/New_York:20260411T103000
DTEND;TZID=America/New_York:20260411T123000
LOCATION:CNX Rooftop\, 1000 Horizon Vue Dr.`\, Canonsburg\, PA 15317 US
SUMMARY:Baby Shower Brunch
END:VEVENT
END:VCALENDAR
