BEGIN:VCALENDAR
VERSION:2.0
PRODID:-//dsapgh.org//NONSGML kigkonsult.se iCalcreator 2.30.10//
CALSCALE:GREGORIAN
METHOD:PUBLISH
UID:b724a194-bc3c-4267-ac38-64cbd791dd2a
X-WR-CALDESC:Come play\, connect\, and have fun with other families on Satu
 rdays from 10am-Noon. Bring siblings along\, and we’ll have blankets sprea
 d out for the babies and toddlers too. We can't wait to see you!
X-WR-RELCALID:45f7b69ba71d215f10cd927278ef1ab9
X-WR-TIMEZONE:America/New_York
BEGIN:VTIMEZONE
TZID:America/New_York
BEGIN:STANDARD
TZNAME:EST
DTSTART:20251102T020000
TZOFFSETFROM:-0400
TZOFFSETTO:-0500
RDATE:20261101T020000
RDATE:20271107T020000
END:STANDARD
BEGIN:DAYLIGHT
TZNAME:EDT
DTSTART:20260308T020000
TZOFFSETFROM:-0500
TZOFFSETTO:-0400
RDATE:20270314T020000
END:DAYLIGHT
END:VTIMEZONE
BEGIN:VEVENT
UID:46340183-4310-49a4-9864-08e607963384
DTSTAMP:20260421T104232Z
DESCRIPTION:Come play\, connect\, and have fun with other families on Satur
 days from 10am-Noon. Bring siblings along\, and we’ll have blankets spread
  out for the babies and toddlers too. We can't wait to see you!
DTSTART;TZID=America/New_York:20260620T100000
DTEND;TZID=America/New_York:20260620T120000
LOCATION:Hutchinson Park\, 65 Reservoir Rd.\, Uniontown\, PA 15401 US
SUMMARY:Playground Pop Up - Hutchinson Park
END:VEVENT
END:VCALENDAR
