BEGIN:VCALENDAR
VERSION:2.0
PRODID:-//dsapgh.org//NONSGML kigkonsult.se iCalcreator 2.30.10//
CALSCALE:GREGORIAN
METHOD:PUBLISH
UID:3c7361a6-a998-4585-975b-016170f8b9c0
X-WR-CALDESC:
X-WR-RELCALID:43a91a911d0160c27316150a07a39539
X-WR-TIMEZONE:America/New_York
BEGIN:VTIMEZONE
TZID:America/New_York
BEGIN:STANDARD
TZNAME:EST
DTSTART:20251102T020000
TZOFFSETFROM:-0400
TZOFFSETTO:-0500
RDATE:20261101T020000
END:STANDARD
BEGIN:DAYLIGHT
TZNAME:EDT
DTSTART:20260308T020000
TZOFFSETFROM:-0500
TZOFFSETTO:-0400
RDATE:20270314T020000
END:DAYLIGHT
END:VTIMEZONE
BEGIN:VEVENT
UID:1f1ac8a8-6490-4407-91d0-f41dd0d1a1d9
DTSTAMP:20260424T104216Z
DESCRIPTION:
DTSTART;TZID=America/New_York:20260415T101500
DTEND;TZID=America/New_York:20260415T111500
LOCATION:Dandelion Kids\, 2892 W Liberty Ave.\, Pittsburgh\, PA 15216 US
SUMMARY:321 Play!
END:VEVENT
END:VCALENDAR
