BEGIN:VCALENDAR
VERSION:2.0
PRODID:-//dsapgh.org//NONSGML kigkonsult.se iCalcreator 2.30.10//
CALSCALE:GREGORIAN
METHOD:PUBLISH
UID:dff9bf59-33bc-46e3-9516-9de6d7b2cdb8
X-WR-CALDESC:
X-WR-RELCALID:56f78c5a3b56a53e120a9bf11514fb33
X-WR-TIMEZONE:America/New_York
BEGIN:VTIMEZONE
TZID:America/New_York
BEGIN:STANDARD
TZNAME:EST
DTSTART:20251102T020000
TZOFFSETFROM:-0400
TZOFFSETTO:-0500
RDATE:20261101T020000
END:STANDARD
BEGIN:DAYLIGHT
TZNAME:EDT
DTSTART:20260308T020000
TZOFFSETFROM:-0500
TZOFFSETTO:-0400
RDATE:20270314T020000
END:DAYLIGHT
END:VTIMEZONE
BEGIN:VEVENT
UID:bf972c95-aafc-4185-a376-76c3c28775fc
DTSTAMP:20260424T105223Z
DESCRIPTION:
DTSTART;TZID=America/New_York:20260408T173000
DTEND;TZID=America/New_York:20260408T183000
LOCATION:The Pickleball Warehouse\, 6815 Hamilton Ave.\, Pittsburgh\, PA 15
 208 US
SUMMARY:Buddy Up Pickleball
END:VEVENT
END:VCALENDAR
