BEGIN:VCALENDAR
VERSION:2.0
PRODID:-//dsapgh.org//NONSGML kigkonsult.se iCalcreator 2.30.10//
CALSCALE:GREGORIAN
METHOD:PUBLISH
UID:ae2f76c8-f469-4323-b1b5-7f49496bb5a6
X-WR-CALDESC:
X-WR-RELCALID:725803e357eb485f29b55e922cbac6f1
X-WR-TIMEZONE:America/New_York
BEGIN:VTIMEZONE
TZID:America/New_York
BEGIN:STANDARD
TZNAME:EST
DTSTART:20251102T020000
TZOFFSETFROM:-0400
TZOFFSETTO:-0500
RDATE:20261101T020000
END:STANDARD
BEGIN:DAYLIGHT
TZNAME:EDT
DTSTART:20260308T020000
TZOFFSETFROM:-0500
TZOFFSETTO:-0400
RDATE:20270314T020000
END:DAYLIGHT
END:VTIMEZONE
BEGIN:VEVENT
UID:fa8d5d90-4470-40ef-8b77-4c4eb14b46c8
DTSTAMP:20260424T155531Z
DESCRIPTION:
DTSTART;TZID=America/New_York:20260314T140000
DTEND;TZID=America/New_York:20260314T153000
LOCATION:Citizens Library\, 55 S. College St.\, Washington`\, PA 15301 US
SUMMARY:T21 - Second Saturday
END:VEVENT
END:VCALENDAR
