BEGIN:VCALENDAR
VERSION:2.0
PRODID:-//dsapgh.org//NONSGML kigkonsult.se iCalcreator 2.30.10//
CALSCALE:GREGORIAN
METHOD:PUBLISH
UID:1435c8b3-3724-49ef-a90e-075f2fc00134
X-WR-CALDESC:
X-WR-RELCALID:1db205c118afb1c423fbda6f04da491d
X-WR-TIMEZONE:America/New_York
BEGIN:VTIMEZONE
TZID:America/New_York
BEGIN:STANDARD
TZNAME:EST
DTSTART:20251102T020000
TZOFFSETFROM:-0400
TZOFFSETTO:-0500
RDATE:20261101T020000
END:STANDARD
BEGIN:DAYLIGHT
TZNAME:EDT
DTSTART:20260308T020000
TZOFFSETFROM:-0500
TZOFFSETTO:-0400
RDATE:20270314T020000
END:DAYLIGHT
END:VTIMEZONE
BEGIN:VEVENT
UID:9431ca8b-e7bb-44d1-bbda-bec1c65b68de
DTSTAMP:20260424T155213Z
DESCRIPTION:
DTSTART;TZID=America/New_York:20260314T130000
DTEND;TZID=America/New_York:20260314T150000
LOCATION:304 N. Wind Ct.\, Gibsonia\, PA 15044 US
SUMMARY:Izabella's Gourmet Chow Cooking Class!
END:VEVENT
END:VCALENDAR
