BEGIN:VCALENDAR
VERSION:2.0
PRODID:-//dsapgh.org//NONSGML kigkonsult.se iCalcreator 2.30.10//
CALSCALE:GREGORIAN
METHOD:PUBLISH
UID:c7b4714e-398c-4dc5-ad42-4c4c09dd6507
X-WR-CALDESC:A free weekday playgroup for children ages 0–4 with Down Syndr
 ome and their parents/caregivers focused on play\, connection\, and early 
 learning. \nEach meet up includes free-play\, coffee\, and a group-lead ac
 tivity such as music\, movement\, or stories. \nThe group provides a welco
 ming space for children and parents to socialize and connect - building co
 mmunity in a supportive\, inclusive setting as we grow together! \n\nJoin 
 us at Dandelion Kids on Saturday\, March 7th from 10:15-11:15am.
X-WR-RELCALID:e834a9430ea9fd55dd979508758fb6b0
X-WR-TIMEZONE:America/New_York
BEGIN:VTIMEZONE
TZID:America/New_York
BEGIN:STANDARD
TZNAME:EST
DTSTART:20251102T020000
TZOFFSETFROM:-0400
TZOFFSETTO:-0500
RDATE:20261101T020000
END:STANDARD
BEGIN:DAYLIGHT
TZNAME:EDT
DTSTART:20250309T020000
TZOFFSETFROM:-0500
TZOFFSETTO:-0400
RDATE:20260308T020000
RDATE:20270314T020000
END:DAYLIGHT
END:VTIMEZONE
BEGIN:VEVENT
UID:7437e508-36b3-4b1f-ab79-b5d293f359e0
DTSTAMP:20260424T160534Z
DESCRIPTION:A free weekday playgroup for children ages 0–4 with Down Syndro
 me and their parents/caregivers focused on play\, connection\, and early l
 earning. \nEach meet up includes free-play\, coffee\, and a group-lead act
 ivity such as music\, movement\, or stories. \nThe group provides a welcom
 ing space for children and parents to socialize and connect - building com
 munity in a supportive\, inclusive setting as we grow together! \n\nJoin u
 s at Dandelion Kids on Saturday\, March 7th from 10:15-11:15am.
DTSTART;TZID=America/New_York:20260307T101500
DTEND;TZID=America/New_York:20260307T111500
LOCATION:Dandelion Kids\, 2892 W Liberty Ave.\, Pittsburgh\, PA 15216 US
SUMMARY:321 Play!
END:VEVENT
END:VCALENDAR
