BEGIN:VCALENDAR
VERSION:2.0
PRODID:-//dsapgh.org//NONSGML kigkonsult.se iCalcreator 2.30.10//
CALSCALE:GREGORIAN
METHOD:PUBLISH
UID:a5ceeb9a-ec21-4cdf-96b8-82e12e3f706f
X-WR-CALDESC:A new free weekday playgroup for children ages 0–4 with Down S
 yndrome and their parents/caregivers focused on play\, connection\, and ea
 rly learning. \nEach meet up includes free-play\, coffee\, and a group-lea
 d activity such as music\, movement\, or stories. \nThe group provides a w
 elcoming space for children and parents to socialize and connect - buildin
 g community in a supportive\, inclusive setting as we grow together! \n\nJ
 oin us for our first meeting at Dandelion Kids on Wednesday\, Feb. 11th fr
 om 10:15-11:15am.
X-WR-RELCALID:aa94ac6dc9f5708fb4fc92bcc9d1f413
X-WR-TIMEZONE:America/New_York
BEGIN:VTIMEZONE
TZID:America/New_York
BEGIN:STANDARD
TZNAME:EST
DTSTART:20251102T020000
TZOFFSETFROM:-0400
TZOFFSETTO:-0500
RDATE:20261101T020000
END:STANDARD
BEGIN:DAYLIGHT
TZNAME:EDT
DTSTART:20250309T020000
TZOFFSETFROM:-0500
TZOFFSETTO:-0400
RDATE:20260308T020000
RDATE:20270314T020000
END:DAYLIGHT
END:VTIMEZONE
BEGIN:VEVENT
UID:7d8e8f1f-b1d8-4c23-8cb8-9c377be7386c
DTSTAMP:20260424T172044Z
DESCRIPTION:A new free weekday playgroup for children ages 0–4 with Down Sy
 ndrome and their parents/caregivers focused on play\, connection\, and ear
 ly learning. \nEach meet up includes free-play\, coffee\, and a group-lead
  activity such as music\, movement\, or stories. \nThe group provides a we
 lcoming space for children and parents to socialize and connect - building
  community in a supportive\, inclusive setting as we grow together! \n\nJo
 in us for our first meeting at Dandelion Kids on Wednesday\, Feb. 11th fro
 m 10:15-11:15am.
DTSTART;TZID=America/New_York:20260225T100000
DTEND;TZID=America/New_York:20260225T110000
LOCATION:The Midwife Center\, 2831 Penn Ave.\, Pittsburgh\, PA 15222 US
SUMMARY:321 Play!
END:VEVENT
END:VCALENDAR
