BEGIN:VCALENDAR
VERSION:2.0
PRODID:-//dsapgh.org//NONSGML kigkonsult.se iCalcreator 2.30.10//
CALSCALE:GREGORIAN
METHOD:PUBLISH
UID:11eda664-3565-4ae3-a77a-c711a44178ed
X-WR-CALDESC:We are excited to invite you to make fused glass suncatchers w
 ith us! If you are a teen\, stay and learn how you can get involved with o
 ur Adulting 101 program for this year!  If you are interested in joining A
 dulting 101\, but can't make this event\, please still fill out this form 
 and let us know.
X-WR-RELCALID:57be0cba036d35768f5964464d5bfcd1
X-WR-TIMEZONE:America/New_York
BEGIN:VTIMEZONE
TZID:America/New_York
BEGIN:STANDARD
TZNAME:EST
DTSTART:20251102T020000
TZOFFSETFROM:-0400
TZOFFSETTO:-0500
RDATE:20261101T020000
END:STANDARD
BEGIN:DAYLIGHT
TZNAME:EDT
DTSTART:20250309T020000
TZOFFSETFROM:-0500
TZOFFSETTO:-0400
RDATE:20260308T020000
RDATE:20270314T020000
END:DAYLIGHT
END:VTIMEZONE
BEGIN:VEVENT
UID:13b1d930-6e01-4eeb-94db-7bca5ce43724
DTSTAMP:20260424T171530Z
DESCRIPTION:We are excited to invite you to make fused glass suncatchers wi
 th us! If you are a teen\, stay and learn how you can get involved with ou
 r Adulting 101 program for this year!  If you are interested in joining Ad
 ulting 101\, but can't make this event\, please still fill out this form a
 nd let us know.
DTSTART;TZID=America/New_York:20260221T130000
DTEND;TZID=America/New_York:20260221T160000
LOCATION:5472 Penn Ave.\, Pittsburgh\, PA 15206 US
SUMMARY:Let's Make Some Art!
END:VEVENT
END:VCALENDAR
