BEGIN:VCALENDAR
VERSION:2.0
PRODID:-//dsapgh.org//NONSGML kigkonsult.se iCalcreator 2.30.10//
CALSCALE:GREGORIAN
METHOD:PUBLISH
UID:47427458-6f27-41a5-b4f3-9d1ccc0d53b2
X-WR-CALDESC:
X-WR-RELCALID:f5e7dde2a058126f692544797128dd12
X-WR-TIMEZONE:America/New_York
BEGIN:VTIMEZONE
TZID:America/New_York
BEGIN:STANDARD
TZNAME:EST
DTSTART:20251102T020000
TZOFFSETFROM:-0400
TZOFFSETTO:-0500
RDATE:20261101T020000
END:STANDARD
BEGIN:DAYLIGHT
TZNAME:EDT
DTSTART:20250309T020000
TZOFFSETFROM:-0500
TZOFFSETTO:-0400
RDATE:20260308T020000
RDATE:20270314T020000
END:DAYLIGHT
END:VTIMEZONE
BEGIN:VEVENT
UID:c670e896-f401-4ecc-a148-ee00f9053aa9
DTSTAMP:20260424T171905Z
DESCRIPTION:
DTSTART;TZID=America/New_York:20260218T120000
DTEND;TZID=America/New_York:20260218T130000
LOCATION:https://us02web.zoom.us/meeting/register/egKNyMQmSN-ReFROVMuQgQ
SUMMARY:Lunch & Learn Speaker Series: Nancy Murray
END:VEVENT
END:VCALENDAR
