BEGIN:VCALENDAR
VERSION:2.0
PRODID:-//dsapgh.org//NONSGML kigkonsult.se iCalcreator 2.30.10//
CALSCALE:GREGORIAN
METHOD:PUBLISH
UID:a5c47f8e-de4b-477b-b823-80f1db1bbc4d
X-WR-CALDESC:
X-WR-RELCALID:c40d12c4ed1889c42bebc51b800632f0
X-WR-TIMEZONE:America/New_York
BEGIN:VTIMEZONE
TZID:America/New_York
BEGIN:STANDARD
TZNAME:EST
DTSTART:20251102T020000
TZOFFSETFROM:-0400
TZOFFSETTO:-0500
RDATE:20261101T020000
END:STANDARD
BEGIN:DAYLIGHT
TZNAME:EDT
DTSTART:20250309T020000
TZOFFSETFROM:-0500
TZOFFSETTO:-0400
RDATE:20260308T020000
RDATE:20270314T020000
END:DAYLIGHT
END:VTIMEZONE
BEGIN:VEVENT
UID:899f5f1a-5f98-4cb0-960d-7e1047d5203f
DTSTAMP:20260424T203458Z
DESCRIPTION:
DTSTART;TZID=America/New_York:20251206T083000
DTEND;TZID=America/New_York:20251206T100000
LOCATION:Alpha Tennis & Fitness\, 1 Alpha Dr. E\, Pittsburgh\, PA 15238 US
SUMMARY:Buddy Up Tennis
END:VEVENT
END:VCALENDAR
