BEGIN:VCALENDAR
VERSION:2.0
PRODID:-//dsapgh.org//NONSGML kigkonsult.se iCalcreator 2.30.10//
CALSCALE:GREGORIAN
METHOD:PUBLISH
UID:fda5179d-334a-4e6e-ba9b-b4fb988f83fa
X-WR-CALDESC:
X-WR-RELCALID:c41210f772fae7dffe35022448a993f5
X-WR-TIMEZONE:America/New_York
BEGIN:VTIMEZONE
TZID:America/New_York
BEGIN:STANDARD
TZNAME:EST
DTSTART:20251102T020000
TZOFFSETFROM:-0400
TZOFFSETTO:-0500
RDATE:20261101T020000
END:STANDARD
BEGIN:DAYLIGHT
TZNAME:EDT
DTSTART:20250309T020000
TZOFFSETFROM:-0500
TZOFFSETTO:-0400
RDATE:20260308T020000
RDATE:20270314T020000
END:DAYLIGHT
END:VTIMEZONE
BEGIN:VEVENT
UID:5b820e18-2a57-4358-bdca-345c8573e05f
DTSTAMP:20260424T221958Z
DESCRIPTION:
DTSTART;TZID=America/New_York:20251118T190000
DTEND;TZID=America/New_York:20251118T200000
LOCATION:Fit 4 Boxing Club\, 4706 William Flynn Hwy\, Allison Park\, PA 151
 01 US
SUMMARY:Allison Park Fall Down To Box
END:VEVENT
END:VCALENDAR
