BEGIN:VCALENDAR
VERSION:2.0
PRODID:-//dsapgh.org//NONSGML kigkonsult.se iCalcreator 2.30.10//
CALSCALE:GREGORIAN
METHOD:PUBLISH
UID:98c30c66-3c61-497d-b64d-164f9745535a
X-WR-CALDESC:
X-WR-RELCALID:e69343023951855d6438369d6754b0ed
X-WR-TIMEZONE:America/New_York
BEGIN:VTIMEZONE
TZID:America/New_York
BEGIN:STANDARD
TZNAME:EST
DTSTART:20251102T020000
TZOFFSETFROM:-0400
TZOFFSETTO:-0500
RDATE:20261101T020000
END:STANDARD
BEGIN:DAYLIGHT
TZNAME:EDT
DTSTART:20250309T020000
TZOFFSETFROM:-0500
TZOFFSETTO:-0400
RDATE:20260308T020000
RDATE:20270314T020000
END:DAYLIGHT
END:VTIMEZONE
BEGIN:VEVENT
UID:d8eaef30-d0a4-4444-a038-c186b5466209
DTSTAMP:20260424T222501Z
DESCRIPTION:
DTSTART;TZID=America/New_York:20251108T083000
DTEND;TZID=America/New_York:20251108T100000
LOCATION:Alpha Tennis & Fitness\, 1 Alpha Dr. E\, Pittsburgh\, PA 15238 US
SUMMARY:Buddy Up Tennis
END:VEVENT
END:VCALENDAR
