BEGIN:VCALENDAR
VERSION:2.0
PRODID:-//dsapgh.org//NONSGML kigkonsult.se iCalcreator 2.30.10//
CALSCALE:GREGORIAN
METHOD:PUBLISH
UID:f8e81fac-f2af-44a0-ae02-c3af5df85f69
X-WR-CALDESC:
X-WR-RELCALID:56e41b1f50a227707544ab3233e960b3
X-WR-TIMEZONE:America/New_York
BEGIN:VTIMEZONE
TZID:America/New_York
BEGIN:STANDARD
TZNAME:EST
DTSTART:20251102T020000
TZOFFSETFROM:-0400
TZOFFSETTO:-0500
RDATE:20261101T020000
END:STANDARD
BEGIN:DAYLIGHT
TZNAME:EDT
DTSTART:20250309T020000
TZOFFSETFROM:-0500
TZOFFSETTO:-0400
RDATE:20260308T020000
RDATE:20270314T020000
END:DAYLIGHT
END:VTIMEZONE
BEGIN:VEVENT
UID:3a65165d-278e-4a61-a756-948300517853
DTSTAMP:20260424T221214Z
DESCRIPTION:
DTSTART;TZID=America/New_York:20251106T190000
DTEND;TZID=America/New_York:20251106T200000
LOCATION:Fit 4 Boxing Club\, 5549 Old William Penn Hwy\, Export\, PA 15632 
 US
SUMMARY:Murrysville Fall Down To Box
END:VEVENT
END:VCALENDAR
