BEGIN:VCALENDAR
VERSION:2.0
PRODID:-//dsapgh.org//NONSGML kigkonsult.se iCalcreator 2.30.10//
CALSCALE:GREGORIAN
METHOD:PUBLISH
UID:f5ecd5c1-9db5-4d28-bff1-e7811eac4eeb
X-WR-CALDESC:
X-WR-RELCALID:ce86431ed5bdab22c7d4f70fe4714f5c
X-WR-TIMEZONE:America/New_York
BEGIN:VTIMEZONE
TZID:America/New_York
BEGIN:STANDARD
TZNAME:EST
DTSTART:20241103T020000
TZOFFSETFROM:-0400
TZOFFSETTO:-0500
RDATE:20251102T020000
RDATE:20261101T020000
END:STANDARD
BEGIN:DAYLIGHT
TZNAME:EDT
DTSTART:20250309T020000
TZOFFSETFROM:-0500
TZOFFSETTO:-0400
RDATE:20260308T020000
RDATE:20270314T020000
END:DAYLIGHT
END:VTIMEZONE
BEGIN:VEVENT
UID:64f5d29a-99a8-40fa-b157-296c577fd7a3
DTSTAMP:20260424T234606Z
DESCRIPTION:
DTSTART;TZID=America/New_York:20251030T190000
DTEND;TZID=America/New_York:20251030T200000
LOCATION:Fit 4 Boxing Club\, 5549 Old William Penn Hwy\, Export\, PA 15632 
 US
SUMMARY:Murrysville Fall Down To Box
END:VEVENT
END:VCALENDAR
