BEGIN:VCALENDAR
VERSION:2.0
PRODID:-//dsapgh.org//NONSGML kigkonsult.se iCalcreator 2.30.10//
CALSCALE:GREGORIAN
METHOD:PUBLISH
UID:6c3bd750-96c3-470d-ac24-cf2865a236b2
X-WR-CALDESC:
X-WR-RELCALID:54a1a5a571cf7458097f7b464d43cfa5
X-WR-TIMEZONE:America/New_York
BEGIN:VTIMEZONE
TZID:America/New_York
BEGIN:STANDARD
TZNAME:EST
DTSTART:20241103T020000
TZOFFSETFROM:-0400
TZOFFSETTO:-0500
RDATE:20251102T020000
RDATE:20261101T020000
END:STANDARD
BEGIN:DAYLIGHT
TZNAME:EDT
DTSTART:20250309T020000
TZOFFSETFROM:-0500
TZOFFSETTO:-0400
RDATE:20260308T020000
RDATE:20270314T020000
END:DAYLIGHT
END:VTIMEZONE
BEGIN:VEVENT
UID:6f2e7f9e-846b-4170-88fe-fe1644e4ae0d
DTSTAMP:20260424T234746Z
DESCRIPTION:
DTSTART;TZID=America/New_York:20251029T173000
DTEND;TZID=America/New_York:20251029T183000
LOCATION:The Pickleball Warehouse\, 6815 Hamilton Ave.\, Pittsburgh\, PA 15
 208 US
SUMMARY:Buddy Up Pickleball
END:VEVENT
END:VCALENDAR
