BEGIN:VCALENDAR
VERSION:2.0
PRODID:-//dsapgh.org//NONSGML kigkonsult.se iCalcreator 2.30.10//
CALSCALE:GREGORIAN
METHOD:PUBLISH
UID:6cb8748e-a0f6-4a4c-9b53-cf2893f79238
X-WR-CALDESC:
X-WR-RELCALID:0b8803abe0414f630f46cf6a8055824d
X-WR-TIMEZONE:America/New_York
BEGIN:VTIMEZONE
TZID:America/New_York
BEGIN:STANDARD
TZNAME:EST
DTSTART:20241103T020000
TZOFFSETFROM:-0400
TZOFFSETTO:-0500
RDATE:20251102T020000
RDATE:20261101T020000
END:STANDARD
BEGIN:DAYLIGHT
TZNAME:EDT
DTSTART:20250309T020000
TZOFFSETFROM:-0500
TZOFFSETTO:-0400
RDATE:20260308T020000
RDATE:20270314T020000
END:DAYLIGHT
END:VTIMEZONE
BEGIN:VEVENT
UID:eb422693-84f6-41d8-a780-a2e58fbd79b5
DTSTAMP:20260424T234730Z
DESCRIPTION:
DTSTART;TZID=America/New_York:20251028T190000
DTEND;TZID=America/New_York:20251028T200000
LOCATION:Fit 4 Boxing Club\, 4706 William Flynn Hwy\, Allison Park\, PA 151
 01 US
SUMMARY:Allison Park Fall Down To Box
END:VEVENT
END:VCALENDAR
