BEGIN:VCALENDAR
VERSION:2.0
PRODID:-//dsapgh.org//NONSGML kigkonsult.se iCalcreator 2.30.10//
CALSCALE:GREGORIAN
METHOD:PUBLISH
UID:4910448b-7ca7-49c0-a83f-3faf974591ca
X-WR-CALDESC:
X-WR-RELCALID:b5f0d63fed6cf29235d5d360c7717248
X-WR-TIMEZONE:America/New_York
BEGIN:VTIMEZONE
TZID:America/New_York
BEGIN:STANDARD
TZNAME:EST
DTSTART:20241103T020000
TZOFFSETFROM:-0400
TZOFFSETTO:-0500
RDATE:20251102T020000
RDATE:20261101T020000
END:STANDARD
BEGIN:DAYLIGHT
TZNAME:EDT
DTSTART:20250309T020000
TZOFFSETFROM:-0500
TZOFFSETTO:-0400
RDATE:20260308T020000
RDATE:20270314T020000
END:DAYLIGHT
END:VTIMEZONE
BEGIN:VEVENT
UID:0ca93a07-cc50-4410-ab1e-d504732cd117
DTSTAMP:20260424T235906Z
DESCRIPTION:
DTSTART;TZID=America/New_York:20251023T190000
DTEND;TZID=America/New_York:20251023T200000
LOCATION:Fit 4 Boxing Club\, 5549 Old William Penn Hwy\, Export\, PA 15632 
 US
SUMMARY:Murrysville Fall Down To Box
END:VEVENT
END:VCALENDAR
