BEGIN:VCALENDAR
VERSION:2.0
PRODID:-//dsapgh.org//NONSGML kigkonsult.se iCalcreator 2.30.10//
CALSCALE:GREGORIAN
METHOD:PUBLISH
UID:1763a586-9371-44db-afdf-c20a7e037d81
X-WR-CALDESC:
X-WR-RELCALID:5a62c081932d8026d9b680cfee844f20
X-WR-TIMEZONE:America/New_York
BEGIN:VTIMEZONE
TZID:America/New_York
BEGIN:STANDARD
TZNAME:EST
DTSTART:20241103T020000
TZOFFSETFROM:-0400
TZOFFSETTO:-0500
RDATE:20251102T020000
RDATE:20261101T020000
END:STANDARD
BEGIN:DAYLIGHT
TZNAME:EDT
DTSTART:20250309T020000
TZOFFSETFROM:-0500
TZOFFSETTO:-0400
RDATE:20260308T020000
RDATE:20270314T020000
END:DAYLIGHT
END:VTIMEZONE
BEGIN:VEVENT
UID:ed89f7d9-d44e-4c3e-8960-920eb27e0ff5
DTSTAMP:20260424T234535Z
DESCRIPTION:
DTSTART;TZID=America/New_York:20251021T190000
DTEND;TZID=America/New_York:20251021T200000
LOCATION:Fit 4 Boxing Club\, 4706 William Flynn Hwy\, Allison Park\, PA 151
 01 US
SUMMARY:Allison Park Fall Down To Box
END:VEVENT
END:VCALENDAR
