BEGIN:VCALENDAR
VERSION:2.0
PRODID:-//dsapgh.org//NONSGML kigkonsult.se iCalcreator 2.30.10//
CALSCALE:GREGORIAN
METHOD:PUBLISH
UID:12a3f20d-117f-4c96-9cf9-1c05e7ff584c
X-WR-CALDESC:Save the date and register your team!  More information coming
  soon!
X-WR-RELCALID:7631a7acc014d8e99d377821b86c8b2b
X-WR-TIMEZONE:America/New_York
BEGIN:VTIMEZONE
TZID:America/New_York
BEGIN:STANDARD
TZNAME:EST
DTSTART:20241103T020000
TZOFFSETFROM:-0400
TZOFFSETTO:-0500
RDATE:20251102T020000
RDATE:20261101T020000
END:STANDARD
BEGIN:DAYLIGHT
TZNAME:EDT
DTSTART:20250309T020000
TZOFFSETFROM:-0500
TZOFFSETTO:-0400
RDATE:20260308T020000
RDATE:20270314T020000
END:DAYLIGHT
END:VTIMEZONE
BEGIN:VEVENT
UID:be3a8795-50f5-4450-8ec4-c6cb1b87fe23
DTSTAMP:20260424T234454Z
DESCRIPTION:Save the date and register your team!  More information coming 
 soon!
DTSTART;TZID=America/New_York:20251018T110000
DTEND;TZID=America/New_York:20251018T140000
LOCATION:Hazelwood Green Park\, 4501 Lytle St.\, Pittsburgh\, PA 15207 US
SUMMARY:Annual Pittsburgh Buddy Walk
END:VEVENT
END:VCALENDAR
