BEGIN:VCALENDAR
VERSION:2.0
PRODID:-//dsapgh.org//NONSGML kigkonsult.se iCalcreator 2.30.10//
CALSCALE:GREGORIAN
METHOD:PUBLISH
UID:e627f77e-ba43-4045-8bbd-e0456ea6892c
X-WR-CALDESC:
X-WR-RELCALID:357fca6ab1fa601ac22fc5e6b8161fc3
X-WR-TIMEZONE:America/New_York
BEGIN:VTIMEZONE
TZID:America/New_York
BEGIN:STANDARD
TZNAME:EST
DTSTART:20241103T020000
TZOFFSETFROM:-0400
TZOFFSETTO:-0500
RDATE:20251102T020000
RDATE:20261101T020000
END:STANDARD
BEGIN:DAYLIGHT
TZNAME:EDT
DTSTART:20250309T020000
TZOFFSETFROM:-0500
TZOFFSETTO:-0400
RDATE:20260308T020000
RDATE:20270314T020000
END:DAYLIGHT
END:VTIMEZONE
BEGIN:VEVENT
UID:b93ecb16-fbee-4969-9d8d-cde6733d935d
DTSTAMP:20260424T235611Z
DESCRIPTION:
DTSTART;TZID=America/New_York:20251018T083000
DTEND;TZID=America/New_York:20251018T100000
LOCATION:Alpha Tennis & Fitness\, 1 Alpha Dr. E\, Pittsburgh\, PA 15238 US
SUMMARY:Buddy Up Tennis
END:VEVENT
END:VCALENDAR
