BEGIN:VCALENDAR
VERSION:2.0
PRODID:-//dsapgh.org//NONSGML kigkonsult.se iCalcreator 2.30.10//
CALSCALE:GREGORIAN
METHOD:PUBLISH
UID:5175d0c4-458d-4105-abc8-77c629a3789b
X-WR-CALDESC:Come and see our Self-Advocates in action behind the bar! Ther
 e are two different breweries within the Brew House: Abstract Realm Brewin
 g & New France Brewing Company.  Each brewery will be donating $1 for ever
 y beer sold to DSAP!
X-WR-RELCALID:ac6b8c12268c2548377061c232ae82e9
X-WR-TIMEZONE:America/New_York
BEGIN:VTIMEZONE
TZID:America/New_York
BEGIN:STANDARD
TZNAME:EST
DTSTART:20241103T020000
TZOFFSETFROM:-0400
TZOFFSETTO:-0500
RDATE:20251102T020000
RDATE:20261101T020000
END:STANDARD
BEGIN:DAYLIGHT
TZNAME:EDT
DTSTART:20250309T020000
TZOFFSETFROM:-0500
TZOFFSETTO:-0400
RDATE:20260308T020000
RDATE:20270314T020000
END:DAYLIGHT
END:VTIMEZONE
BEGIN:VEVENT
UID:89eb7cf2-8be8-4c07-8513-4e9084229851
DTSTAMP:20260424T234455Z
DESCRIPTION:Come and see our Self-Advocates in action behind the bar! There
  are two different breweries within the Brew House: Abstract Realm Brewing
  & New France Brewing Company.  Each brewery will be donating $1 for every
  beer sold to DSAP!
DTSTART;TZID=America/New_York:20251016T180000
DTEND;TZID=America/New_York:20251016T200000
LOCATION:Hazelwood Brew House\, 5007 Lytle St. \, Pittsburgh\, PA 15207 US
SUMMARY:Guest Bartending Event!
END:VEVENT
END:VCALENDAR
