BEGIN:VCALENDAR
VERSION:2.0
PRODID:-//dsapgh.org//NONSGML kigkonsult.se iCalcreator 2.30.10//
CALSCALE:GREGORIAN
METHOD:PUBLISH
UID:4774f941-9440-46ca-9dff-5600d1df3b2e
X-WR-CALDESC:
X-WR-RELCALID:34caf00743d8d319ca5167d37960b05b
X-WR-TIMEZONE:America/New_York
BEGIN:VTIMEZONE
TZID:America/New_York
BEGIN:STANDARD
TZNAME:EST
DTSTART:20241103T020000
TZOFFSETFROM:-0400
TZOFFSETTO:-0500
RDATE:20251102T020000
RDATE:20261101T020000
END:STANDARD
BEGIN:DAYLIGHT
TZNAME:EDT
DTSTART:20250309T020000
TZOFFSETFROM:-0500
TZOFFSETTO:-0400
RDATE:20260308T020000
RDATE:20270314T020000
END:DAYLIGHT
END:VTIMEZONE
BEGIN:VEVENT
UID:b1ded3c2-1cec-4223-ae26-741d933edd0d
DTSTAMP:20260424T234945Z
DESCRIPTION:
DTSTART;TZID=America/New_York:20251016T190000
DTEND;TZID=America/New_York:20251016T200000
LOCATION:Fit 4 Boxing Club\, 5549 Old William Penn Hwy\, Export\, PA 15632 
 US
SUMMARY:Murrysville Fall Down To Box
END:VEVENT
END:VCALENDAR
