BEGIN:VCALENDAR
VERSION:2.0
PRODID:-//dsapgh.org//NONSGML kigkonsult.se iCalcreator 2.30.10//
CALSCALE:GREGORIAN
METHOD:PUBLISH
UID:b61d0556-6c5e-479d-a460-0165724700b0
X-WR-CALDESC:
X-WR-RELCALID:254c3112870e2061e1260310c23760a8
X-WR-TIMEZONE:America/New_York
BEGIN:VTIMEZONE
TZID:America/New_York
BEGIN:STANDARD
TZNAME:EST
DTSTART:20241103T020000
TZOFFSETFROM:-0400
TZOFFSETTO:-0500
RDATE:20251102T020000
RDATE:20261101T020000
END:STANDARD
BEGIN:DAYLIGHT
TZNAME:EDT
DTSTART:20250309T020000
TZOFFSETFROM:-0500
TZOFFSETTO:-0400
RDATE:20260308T020000
RDATE:20270314T020000
END:DAYLIGHT
END:VTIMEZONE
BEGIN:VEVENT
UID:bf289b61-0068-4963-a462-a25032e5d85d
DTSTAMP:20260424T235840Z
DESCRIPTION:
DTSTART;TZID=America/New_York:20251015T173000
DTEND;TZID=America/New_York:20251015T183000
LOCATION:The Pickleball Warehouse\, 6815 Hamilton Ave.\, Pittsburgh\, PA 15
 208 US
SUMMARY:Buddy Up Pickleball
END:VEVENT
END:VCALENDAR
