BEGIN:VCALENDAR
VERSION:2.0
PRODID:-//dsapgh.org//NONSGML kigkonsult.se iCalcreator 2.30.10//
CALSCALE:GREGORIAN
METHOD:PUBLISH
UID:ac7caca5-90b2-48f4-b91c-803885e714e7
X-WR-CALDESC:
X-WR-RELCALID:f63f19a66e1011646434dc38da56b01c
X-WR-TIMEZONE:America/New_York
BEGIN:VTIMEZONE
TZID:America/New_York
BEGIN:STANDARD
TZNAME:EST
DTSTART:20241103T020000
TZOFFSETFROM:-0400
TZOFFSETTO:-0500
RDATE:20251102T020000
RDATE:20261101T020000
END:STANDARD
BEGIN:DAYLIGHT
TZNAME:EDT
DTSTART:20250309T020000
TZOFFSETFROM:-0500
TZOFFSETTO:-0400
RDATE:20260308T020000
RDATE:20270314T020000
END:DAYLIGHT
END:VTIMEZONE
BEGIN:VEVENT
UID:55de54c9-adf5-42c4-8226-3292b9248835
DTSTAMP:20260425T013316Z
DESCRIPTION:
DTSTART;TZID=America/New_York:20250925T060000
DTEND;TZID=America/New_York:20250925T060001
LOCATION:https://us02web.zoom.us/meeting/register/awbfMsK7SEOK1Y3-tQW_ow
SUMMARY:Speaker Series: Smart Home Living with Michael Brownlee
END:VEVENT
END:VCALENDAR
