BEGIN:VCALENDAR
VERSION:2.0
PRODID:-//dsapgh.org//NONSGML kigkonsult.se iCalcreator 2.30.10//
CALSCALE:GREGORIAN
METHOD:PUBLISH
UID:18fe86c9-0913-4e87-8adb-a654ef89f951
X-WR-CALDESC:
X-WR-RELCALID:784e3ad4fda43976eac6bc5ee8915bcf
X-WR-TIMEZONE:America/New_York
BEGIN:VTIMEZONE
TZID:America/New_York
BEGIN:STANDARD
TZNAME:EST
DTSTART:20241103T020000
TZOFFSETFROM:-0400
TZOFFSETTO:-0500
RDATE:20251102T020000
RDATE:20261101T020000
END:STANDARD
BEGIN:DAYLIGHT
TZNAME:EDT
DTSTART:20250309T020000
TZOFFSETFROM:-0500
TZOFFSETTO:-0400
RDATE:20260308T020000
RDATE:20270314T020000
END:DAYLIGHT
END:VTIMEZONE
BEGIN:VEVENT
UID:8bc68164-bc30-4097-9219-3caee4afa1af
DTSTAMP:20260425T011751Z
DESCRIPTION:
DTSTART;TZID=America/New_York:20250924T173000
DTEND;TZID=America/New_York:20250924T183000
LOCATION:The Pickleball Warehouse\, 6815 Hamilton Ave.\, Pittsburgh\, PA 15
 208 US
SUMMARY:Buddy Up Pickleball
END:VEVENT
END:VCALENDAR
