BEGIN:VCALENDAR
VERSION:2.0
PRODID:-//dsapgh.org//NONSGML kigkonsult.se iCalcreator 2.30.10//
CALSCALE:GREGORIAN
METHOD:PUBLISH
UID:e7181632-fb1f-4acc-8b2e-53535432859a
X-WR-CALDESC:
X-WR-RELCALID:59442d13962ba8eff4bdd8063d6698ba
X-WR-TIMEZONE:America/New_York
BEGIN:VTIMEZONE
TZID:America/New_York
BEGIN:STANDARD
TZNAME:EST
DTSTART:20241103T020000
TZOFFSETFROM:-0400
TZOFFSETTO:-0500
RDATE:20251102T020000
RDATE:20261101T020000
END:STANDARD
BEGIN:DAYLIGHT
TZNAME:EDT
DTSTART:20250309T020000
TZOFFSETFROM:-0500
TZOFFSETTO:-0400
RDATE:20260308T020000
RDATE:20270314T020000
END:DAYLIGHT
END:VTIMEZONE
BEGIN:VEVENT
UID:3519cbab-fc91-48aa-809f-1287cb500715
DTSTAMP:20260425T011918Z
DESCRIPTION:
DTSTART;TZID=America/New_York:20250923T190000
DTEND;TZID=America/New_York:20250923T200000
LOCATION:Fit 4 Boxing Club\, 4706 William Flynn Hwy\, Allison Park\, PA 151
 01 US
SUMMARY:Allison Park Fall Down To Box
END:VEVENT
END:VCALENDAR
