BEGIN:VCALENDAR
VERSION:2.0
PRODID:-//dsapgh.org//NONSGML kigkonsult.se iCalcreator 2.30.10//
CALSCALE:GREGORIAN
METHOD:PUBLISH
UID:ff41f453-fcaf-4e6f-9eef-016782d0f7e3
X-WR-CALDESC:
X-WR-RELCALID:f0a9f0872ddd8886edda1fa45b21914a
X-WR-TIMEZONE:America/New_York
BEGIN:VTIMEZONE
TZID:America/New_York
BEGIN:STANDARD
TZNAME:EST
DTSTART:20241103T020000
TZOFFSETFROM:-0400
TZOFFSETTO:-0500
RDATE:20251102T020000
RDATE:20261101T020000
END:STANDARD
BEGIN:DAYLIGHT
TZNAME:EDT
DTSTART:20250309T020000
TZOFFSETFROM:-0500
TZOFFSETTO:-0400
RDATE:20260308T020000
RDATE:20270314T020000
END:DAYLIGHT
END:VTIMEZONE
BEGIN:VEVENT
UID:ccf6cc24-d470-4580-a262-a33bd8b4c9ec
DTSTAMP:20260425T010721Z
DESCRIPTION:
DTSTART;TZID=America/New_York:20250916T190000
DTEND;TZID=America/New_York:20250916T200000
LOCATION:Fit 4 Boxing Club\, 4706 William Flynn Hwy\, Allison Park\, PA 151
 01 US
SUMMARY:Allison Park Fall Down To Box
END:VEVENT
END:VCALENDAR
