BEGIN:VCALENDAR
VERSION:2.0
PRODID:-//dsapgh.org//NONSGML kigkonsult.se iCalcreator 2.30.10//
CALSCALE:GREGORIAN
METHOD:PUBLISH
UID:6eaface2-3db5-425f-8b50-d54d89df2b05
X-WR-CALDESC:
X-WR-RELCALID:be9e828cd716960834b869f7914fcf8c
X-WR-TIMEZONE:America/New_York
BEGIN:VTIMEZONE
TZID:America/New_York
BEGIN:STANDARD
TZNAME:EST
DTSTART:20241103T020000
TZOFFSETFROM:-0400
TZOFFSETTO:-0500
RDATE:20251102T020000
RDATE:20261101T020000
END:STANDARD
BEGIN:DAYLIGHT
TZNAME:EDT
DTSTART:20250309T020000
TZOFFSETFROM:-0500
TZOFFSETTO:-0400
RDATE:20260308T020000
END:DAYLIGHT
END:VTIMEZONE
BEGIN:VEVENT
UID:0d008430-ff39-4783-9de1-640cb84d4ab1
DTSTAMP:20260425T012718Z
DESCRIPTION:
DTSTART;TZID=America/New_York:20250911T190000
DTEND;TZID=America/New_York:20250911T200000
LOCATION:Fit 4 Boxing Club\, 5549 Old William Penn Hwy\, Export\, PA 15632 
 US
SUMMARY:Murrysville Fall Down To Box
END:VEVENT
END:VCALENDAR
