BEGIN:VCALENDAR
VERSION:2.0
PRODID:-//dsapgh.org//NONSGML kigkonsult.se iCalcreator 2.30.10//
CALSCALE:GREGORIAN
METHOD:PUBLISH
UID:662299f8-9aa2-4cf0-86d5-e96968c29955
X-WR-CALDESC:
X-WR-RELCALID:22226c07887dea4117cc5ab864a2b0e4
X-WR-TIMEZONE:America/New_York
BEGIN:VTIMEZONE
TZID:America/New_York
BEGIN:STANDARD
TZNAME:EST
DTSTART:20241103T020000
TZOFFSETFROM:-0400
TZOFFSETTO:-0500
RDATE:20251102T020000
RDATE:20261101T020000
END:STANDARD
BEGIN:DAYLIGHT
TZNAME:EDT
DTSTART:20250309T020000
TZOFFSETFROM:-0500
TZOFFSETTO:-0400
RDATE:20260308T020000
END:DAYLIGHT
END:VTIMEZONE
BEGIN:VEVENT
UID:b35bee0c-1ddd-4618-8514-3bc9b4fcedef
DTSTAMP:20260425T011521Z
DESCRIPTION:
DTSTART;TZID=America/New_York:20250904T190000
DTEND;TZID=America/New_York:20250904T210000
LOCATION:Pittsburgh Playhouse\, 350 Forbes Ave.\, Pittsburgh\, PA 15222 US
SUMMARY:Dads Night Out
END:VEVENT
END:VCALENDAR
