BEGIN:VCALENDAR
VERSION:2.0
PRODID:-//dsapgh.org//NONSGML kigkonsult.se iCalcreator 2.30.10//
CALSCALE:GREGORIAN
METHOD:PUBLISH
UID:c7f8b94d-6eb2-4529-b276-2b3b2d1a3357
X-WR-CALDESC:We are excited to bring the I Got This Discovery Golf Clinic t
 o Pittsburgh!
X-WR-RELCALID:71b639fa7601a7d20e4ba8178421f1be
X-WR-TIMEZONE:America/New_York
BEGIN:VTIMEZONE
TZID:America/New_York
BEGIN:STANDARD
TZNAME:EST
DTSTART:20241103T020000
TZOFFSETFROM:-0400
TZOFFSETTO:-0500
RDATE:20251102T020000
RDATE:20261101T020000
END:STANDARD
BEGIN:DAYLIGHT
TZNAME:EDT
DTSTART:20250309T020000
TZOFFSETFROM:-0500
TZOFFSETTO:-0400
RDATE:20260308T020000
END:DAYLIGHT
END:VTIMEZONE
BEGIN:VEVENT
UID:37b3d532-ee78-4009-b348-2c22ede93533
DTSTAMP:20260425T024354Z
DESCRIPTION:We are excited to bring the I Got This Discovery Golf Clinic to
  Pittsburgh!
DTSTART;TZID=America/New_York:20250824T100000
DTEND;TZID=America/New_York:20250824T120000
LOCATION:Bob O'Connor Golf Course\, 5370 Shenley Dr.\, Pittsburgh\, PA 1521
 7 US
SUMMARY:I Got This! Discovery Golf Clinic
END:VEVENT
END:VCALENDAR
