BEGIN:VCALENDAR
VERSION:2.0
PRODID:-//dsapgh.org//NONSGML kigkonsult.se iCalcreator 2.30.10//
CALSCALE:GREGORIAN
METHOD:PUBLISH
UID:053f6b43-8d33-451c-ad59-11517cb842ff
X-WR-CALDESC:Come play\, connect\, and have fun with other families on Satu
 rdays Aug. 9th from 10am-Noon. Bring siblings along\, and we’ll have blank
 ets spread out for the babies and toddlers too. Let's meet at the Kid's Ca
 stle!
X-WR-RELCALID:f23548d6b0caa4c5cf7579defba55d07
X-WR-TIMEZONE:America/New_York
BEGIN:VTIMEZONE
TZID:America/New_York
BEGIN:STANDARD
TZNAME:EST
DTSTART:20241103T020000
TZOFFSETFROM:-0400
TZOFFSETTO:-0500
RDATE:20251102T020000
RDATE:20261101T020000
END:STANDARD
BEGIN:DAYLIGHT
TZNAME:EDT
DTSTART:20250309T020000
TZOFFSETFROM:-0500
TZOFFSETTO:-0400
RDATE:20260308T020000
END:DAYLIGHT
END:VTIMEZONE
BEGIN:VEVENT
UID:2ac1e9f2-23bd-40ef-a88a-10fc9484ed4f
DTSTAMP:20260425T024649Z
DESCRIPTION:Come play\, connect\, and have fun with other families on Satur
 days Aug. 9th from 10am-Noon. Bring siblings along\, and we’ll have blanke
 ts spread out for the babies and toddlers too. Let's meet at the Kid's Cas
 tle!
DTSTART;TZID=America/New_York:20250809T100000
DTEND;TZID=America/New_York:20250809T120000
LOCATION:Cranberry Twp Community Park\, 111 Ernie Mashuda Dr.\, Cranberry\,
  PA 16066 US
SUMMARY:Playground Pop-Ups - Cranberry Twp Community Park
END:VEVENT
END:VCALENDAR
