BEGIN:VCALENDAR
VERSION:2.0
PRODID:-//dsapgh.org//NONSGML kigkonsult.se iCalcreator 2.30.10//
CALSCALE:GREGORIAN
METHOD:PUBLISH
UID:4135af9d-4ace-4b44-88b2-91c25144712f
X-WR-CALDESC:
X-WR-RELCALID:6ec0416b5cb7e2cf0a589aec95796786
X-WR-TIMEZONE:America/New_York
BEGIN:VTIMEZONE
TZID:America/New_York
BEGIN:STANDARD
TZNAME:EST
DTSTART:20241103T020000
TZOFFSETFROM:-0400
TZOFFSETTO:-0500
RDATE:20251102T020000
END:STANDARD
BEGIN:DAYLIGHT
TZNAME:EDT
DTSTART:20250309T020000
TZOFFSETFROM:-0500
TZOFFSETTO:-0400
RDATE:20260308T020000
END:DAYLIGHT
END:VTIMEZONE
BEGIN:VEVENT
UID:8295e3fd-cd75-4438-99da-28f881adc051
DTSTAMP:20260425T110932Z
DESCRIPTION:
DTSTART;TZID=America/New_York:20250322T083000
DTEND;TZID=America/New_York:20250322T100000
LOCATION:Alpha Tennis & Fitness\, 1 Alpha Dr. E\, Pittsburgh\, PA 15238 US
SUMMARY:Buddy Up Tennis
END:VEVENT
END:VCALENDAR
