BEGIN:VCALENDAR
VERSION:2.0
PRODID:-//dsapgh.org//NONSGML kigkonsult.se iCalcreator 2.30.10//
CALSCALE:GREGORIAN
METHOD:PUBLISH
UID:3f0223e5-d0e7-4ddf-a340-ab397dedc201
X-WR-CALDESC:'Bandana Printing” with Creative Citizens\nhttps://www.citizen
 studios.org/\n\nMust be 16 years old - Artists will be using a\nprinting p
 ress to print on bandanas.
X-WR-RELCALID:bebed2137c02081f662479a5e88a386c
X-WR-TIMEZONE:America/New_York
BEGIN:VTIMEZONE
TZID:America/New_York
BEGIN:STANDARD
TZNAME:EST
DTSTART:20241103T020000
TZOFFSETFROM:-0400
TZOFFSETTO:-0500
RDATE:20251102T020000
END:STANDARD
BEGIN:DAYLIGHT
TZNAME:EDT
DTSTART:20250309T020000
TZOFFSETFROM:-0500
TZOFFSETTO:-0400
RDATE:20260308T020000
END:DAYLIGHT
END:VTIMEZONE
BEGIN:VEVENT
UID:93f36727-9456-4c3f-b22b-031a5d0ecd54
DTSTAMP:20260425T113001Z
DESCRIPTION:'Bandana Printing” with Creative Citizens\nhttps://www.citizens
 tudios.org/\n\nMust be 16 years old - Artists will be using a\nprinting pr
 ess to print on bandanas.
DTSTART;TZID=America/New_York:20250315T130000
DTEND;TZID=America/New_York:20250315T143000
LOCATION:Creative Citizen Studios \, 312 Grant Ave.\, Pittsburgh\, PA 15209
  US
SUMMARY:WDSD Maker Events
END:VEVENT
END:VCALENDAR
