BEGIN:VCALENDAR
VERSION:2.0
PRODID:-//dsapgh.org//NONSGML kigkonsult.se iCalcreator 2.30.10//
CALSCALE:GREGORIAN
METHOD:PUBLISH
UID:050262da-291b-421c-bb90-3c0bca2db30d
X-WR-CALDESC:
X-WR-RELCALID:c3e81836746fd759bcefe46710f1f187
X-WR-TIMEZONE:America/New_York
BEGIN:VTIMEZONE
TZID:America/New_York
BEGIN:STANDARD
TZNAME:EST
DTSTART:20241103T020000
TZOFFSETFROM:-0400
TZOFFSETTO:-0500
RDATE:20251102T020000
END:STANDARD
BEGIN:DAYLIGHT
TZNAME:EDT
DTSTART:20240310T020000
TZOFFSETFROM:-0500
TZOFFSETTO:-0400
RDATE:20250309T020000
RDATE:20260308T020000
END:DAYLIGHT
END:VTIMEZONE
BEGIN:VEVENT
UID:92a1825e-832b-4f1c-bd6f-c57d0bd82010
DTSTAMP:20260425T113241Z
DESCRIPTION:
DTSTART;TZID=America/New_York:20250308T083000
DTEND;TZID=America/New_York:20250308T100000
LOCATION:Alpha Tennis & Fitness\, 1 Alpha Dr. E\, Pittsburgh\, PA 15238 US
SUMMARY:Buddy Up Tennis
END:VEVENT
END:VCALENDAR
