BEGIN:VCALENDAR
VERSION:2.0
PRODID:-//dsapgh.org//NONSGML kigkonsult.se iCalcreator 2.30.10//
CALSCALE:GREGORIAN
METHOD:PUBLISH
UID:d9e7a579-fd0f-4568-ad2a-5d2820cd953a
X-WR-CALDESC:Join us for an evening to relax with a cup of coffee or grab b
 ite to eat.  \nConnect with other moms and learn how to make beautiful flo
 wers out of book pages!
X-WR-RELCALID:0efa72a3875dbd2221f8eddbe6f7afdd
X-WR-TIMEZONE:America/New_York
BEGIN:VTIMEZONE
TZID:America/New_York
BEGIN:STANDARD
TZNAME:EST
DTSTART:20241103T020000
TZOFFSETFROM:-0400
TZOFFSETTO:-0500
RDATE:20251102T020000
END:STANDARD
BEGIN:DAYLIGHT
TZNAME:EDT
DTSTART:20240310T020000
TZOFFSETFROM:-0500
TZOFFSETTO:-0400
RDATE:20250309T020000
RDATE:20260308T020000
END:DAYLIGHT
END:VTIMEZONE
BEGIN:VEVENT
UID:84e2a965-bc64-4140-aa63-84617cd7bb16
DTSTAMP:20260425T131855Z
DESCRIPTION:Join us for an evening to relax with a cup of coffee or grab bi
 te to eat.  \nConnect with other moms and learn how to make beautiful flow
 ers out of book pages!
DTSTART;TZID=America/New_York:20250227T183000
DTEND;TZID=America/New_York:20250227T200000
LOCATION:Panera Bread\, 12071 Perry Hwy\, Wexford\, PA 15090 US
SUMMARY:Mom's Meet-Up
END:VEVENT
END:VCALENDAR
