BEGIN:VCALENDAR
VERSION:2.0
PRODID:-//dsapgh.org//NONSGML kigkonsult.se iCalcreator 2.30.10//
CALSCALE:GREGORIAN
METHOD:PUBLISH
UID:9cbfea32-5b87-4927-a988-21d2fb289aac
X-WR-CALDESC:We are kicking of our Speaker Series this year with an amazing
  2-part series by Attorney Brandi K. Suter founder of Extraordinary Law.  
 She will be discussing the topic of 'Meaningful Progress & Extended Year S
 ervices' \n\nRegister here for this free event!\nhttps://us02web.zoom.us/.
 ../register/p7cgOdEiTQS8IxFmyqEGzQ\n\nThe second part will be on March 28t
 h so save the date!\n\nFor more information on Extraordinary Law\, please 
 visit:\nwww.extraordinarylaw.com
X-WR-RELCALID:78dee6cbb07888b32b4e839827b94ad2
X-WR-TIMEZONE:America/New_York
BEGIN:VTIMEZONE
TZID:America/New_York
BEGIN:STANDARD
TZNAME:EST
DTSTART:20241103T020000
TZOFFSETFROM:-0400
TZOFFSETTO:-0500
RDATE:20251102T020000
END:STANDARD
BEGIN:DAYLIGHT
TZNAME:EDT
DTSTART:20240310T020000
TZOFFSETFROM:-0500
TZOFFSETTO:-0400
RDATE:20250309T020000
RDATE:20260308T020000
END:DAYLIGHT
END:VTIMEZONE
BEGIN:VEVENT
UID:cd6b4f86-ffba-471e-b34a-b1f4f910895e
DTSTAMP:20260425T131236Z
DESCRIPTION:We are kicking of our Speaker Series this year with an amazing 
 2-part series by Attorney Brandi K. Suter founder of Extraordinary Law.  S
 he will be discussing the topic of 'Meaningful Progress & Extended Year Se
 rvices' \n\nRegister here for this free event!\nhttps://us02web.zoom.us/..
 ./register/p7cgOdEiTQS8IxFmyqEGzQ\n\nThe second part will be on March 28th
  so save the date!\n\nFor more information on Extraordinary Law\, please v
 isit:\nwww.extraordinarylaw.com
DTSTART;TZID=America/New_York:20250221T120000
DTEND;TZID=America/New_York:20250221T130000
LOCATION:https://us02web.zoom.us/.../register/p7cgOdEiTQS8IxFmyqEGzQ
SUMMARY:Lunch & Lear Speaker Series
END:VEVENT
END:VCALENDAR
