BEGIN:VCALENDAR
VERSION:2.0
PRODID:-//dsapgh.org//NONSGML kigkonsult.se iCalcreator 2.30.10//
CALSCALE:GREGORIAN
METHOD:PUBLISH
UID:80f95278-3b7d-42d8-9423-dab3516e7404
X-WR-CALDESC:Our office will be closed for the holiday. We will be back ope
 n on Friday\, July 5 and appreciate your understanding.
X-WR-RELCALID:eb2874f8e4024f1260955b1528d8aa39
X-WR-TIMEZONE:America/New_York
BEGIN:VTIMEZONE
TZID:America/New_York
BEGIN:STANDARD
TZNAME:EST
DTSTART:20231105T020000
TZOFFSETFROM:-0400
TZOFFSETTO:-0500
RDATE:20241103T020000
RDATE:20251102T020000
END:STANDARD
BEGIN:DAYLIGHT
TZNAME:EDT
DTSTART:20240310T020000
TZOFFSETFROM:-0500
TZOFFSETTO:-0400
RDATE:20250309T020000
END:DAYLIGHT
END:VTIMEZONE
BEGIN:VEVENT
UID:8a6a30be-4248-41d9-bcbe-632b02e777cf
DTSTAMP:20260426T005004Z
DESCRIPTION:Our office will be closed for the holiday. We will be back open
  on Friday\, July 5 and appreciate your understanding.
DTSTART;TZID=America/New_York:20240704T060000
DTEND;TZID=America/New_York:20240704T060001
LOCATION:
SUMMARY:DSAP Office Closed
END:VEVENT
END:VCALENDAR
