BEGIN:VCALENDAR
VERSION:2.0
PRODID:-//dsapgh.org//NONSGML kigkonsult.se iCalcreator 2.30.10//
CALSCALE:GREGORIAN
METHOD:PUBLISH
UID:f9bd7c47-3a3e-4d5a-93f5-102677557a0f
X-WR-CALDESC:Having a peer to turn to who is just a couple years ahead on t
 his parenting journey is a lifeline! If you are a local parent of a child 
 with Down syndrome ages 5 and under\, would you consider completing a 90-m
 inute virtual training to be that lifeline for a new or expectant parent? 
 \n\nThe Down Syndrome Association of Pittsburgh (DSAP) is holding a virtua
 l training on Thursday\, June 27 from 6:30-8pm for interested local Parent
  Mentors who have children with Down syndrome ages 5 and under to be part 
 of our program called 'First Call.' Join virtually via Zoom.\n\nThis progr
 am offers new and expectant parents receiving a diagnosis of Down syndrome
  the opportunity to connect with trained parent mentors who share the same
  or similar life circumstances. As a First Call Trained parent mentor\, yo
 u would be:\n\n-A trained volunteer available to confidentially listen\, s
 hare resources\, and provide valuable\, current information about Down syn
 drome\n-A connection and support a new/expectant parent via phone calls\, 
 text\, e-mail\, DMs (direct messages)\, or whatever is most comfortable\n-
 Willing to commit to one year of support to a new/expectant parent
X-WR-RELCALID:7b349a9f1281ff85e80453945ef7cb17
X-WR-TIMEZONE:America/New_York
BEGIN:VTIMEZONE
TZID:America/New_York
BEGIN:STANDARD
TZNAME:EST
DTSTART:20231105T020000
TZOFFSETFROM:-0400
TZOFFSETTO:-0500
RDATE:20241103T020000
RDATE:20251102T020000
END:STANDARD
BEGIN:DAYLIGHT
TZNAME:EDT
DTSTART:20240310T020000
TZOFFSETFROM:-0500
TZOFFSETTO:-0400
RDATE:20250309T020000
END:DAYLIGHT
END:VTIMEZONE
BEGIN:VEVENT
UID:60aa887d-1379-438b-8745-42e8d279ab5f
DTSTAMP:20260426T022023Z
DESCRIPTION:Having a peer to turn to who is just a couple years ahead on th
 is parenting journey is a lifeline! If you are a local parent of a child w
 ith Down syndrome ages 5 and under\, would you consider completing a 90-mi
 nute virtual training to be that lifeline for a new or expectant parent? 
 \n\nThe Down Syndrome Association of Pittsburgh (DSAP) is holding a virtua
 l training on Thursday\, June 27 from 6:30-8pm for interested local Parent
  Mentors who have children with Down syndrome ages 5 and under to be part 
 of our program called 'First Call.' Join virtually via Zoom.\n\nThis progr
 am offers new and expectant parents receiving a diagnosis of Down syndrome
  the opportunity to connect with trained parent mentors who share the same
  or similar life circumstances. As a First Call Trained parent mentor\, yo
 u would be:\n\n-A trained volunteer available to confidentially listen\, s
 hare resources\, and provide valuable\, current information about Down syn
 drome\n-A connection and support a new/expectant parent via phone calls\, 
 text\, e-mail\, DMs (direct messages)\, or whatever is most comfortable\n-
 Willing to commit to one year of support to a new/expectant parent
DTSTART;TZID=America/New_York:20240627T183000
DTEND;TZID=America/New_York:20240627T200000
LOCATION:Zoom Virtual Meeting
SUMMARY:DSAP First Call Parent Mentor Training (Virtual)
END:VEVENT
END:VCALENDAR
