BEGIN:VCALENDAR
VERSION:2.0
PRODID:-//dsapgh.org//NONSGML kigkonsult.se iCalcreator 2.30.10//
CALSCALE:GREGORIAN
METHOD:PUBLISH
UID:d6d356d3-452c-4ce3-b2cb-b61ea8936d4a
X-WR-CALDESC:*Please note this webinar is not hosted by the Down Syndrome A
 ssociation of Pittsburgh*\n\n✍️ It's been ten years since The Achieving a 
 Better Life Experience (ABLE) Act was signed into law!
X-WR-RELCALID:3f865cfb5071fe3490b12aea545f20b1
X-WR-TIMEZONE:America/New_York
BEGIN:VTIMEZONE
TZID:America/New_York
BEGIN:STANDARD
TZNAME:EST
DTSTART:20231105T020000
TZOFFSETFROM:-0400
TZOFFSETTO:-0500
RDATE:20241103T020000
RDATE:20251102T020000
END:STANDARD
BEGIN:DAYLIGHT
TZNAME:EDT
DTSTART:20240310T020000
TZOFFSETFROM:-0500
TZOFFSETTO:-0400
RDATE:20250309T020000
END:DAYLIGHT
END:VTIMEZONE
BEGIN:VEVENT
UID:14ee7934-add9-4972-ad66-815c999daf3d
DTSTAMP:20260426T040909Z
DESCRIPTION:*Please note this webinar is not hosted by the Down Syndrome As
 sociation of Pittsburgh*\n\n✍️ It's been ten years since The Achieving a B
 etter Life Experience (ABLE) Act was signed into law!
DTSTART;TZID=America/New_York:20240529T130000
DTEND;TZID=America/New_York:20240529T141500
LOCATION:https://us02web.zoom.us/rest/webinar/registrant/WN_1wnvlZcQRhGJtwT
 4-FuTEg/info?tk=TyLs8dFQrW1gAQ9znsU6UO1dPiBGJfm9GA1ruqCk899MiDEOVBc2HRk.kA
 yOIbcNZijKuBNI&ac=approved&timezone_id=America/New_York#/registration
SUMMARY:*NDSS Webinar: ABLE today - National Presentation and Introduction 
 on ABLE Accounts*
END:VEVENT
END:VCALENDAR
