BEGIN:VCALENDAR
VERSION:2.0
PRODID:-//dsapgh.org//NONSGML kigkonsult.se iCalcreator 2.30.10//
CALSCALE:GREGORIAN
METHOD:PUBLISH
UID:a5c4e2a2-4d3d-4881-b81b-a935ab5bf178
X-WR-CALDESC:*Sharing this community event*
X-WR-RELCALID:1e9ee000498e824d46a25ca2b5c4bd16
X-WR-TIMEZONE:America/New_York
BEGIN:VTIMEZONE
TZID:America/New_York
BEGIN:STANDARD
TZNAME:EST
DTSTART:20231105T020000
TZOFFSETFROM:-0400
TZOFFSETTO:-0500
RDATE:20241103T020000
RDATE:20251102T020000
END:STANDARD
BEGIN:DAYLIGHT
TZNAME:EDT
DTSTART:20240310T020000
TZOFFSETFROM:-0500
TZOFFSETTO:-0400
RDATE:20250309T020000
END:DAYLIGHT
END:VTIMEZONE
BEGIN:VEVENT
UID:b5540529-a9d7-4a08-9861-f5c2802dd604
DTSTAMP:20260426T040531Z
DESCRIPTION:*Sharing this community event*
DTSTART;TZID=America/New_York:20240524T180000
DTEND;TZID=America/New_York:20240524T200000
LOCATION:Elias Fry Barn\, 415 Knob Road\, Wexford\, PA 15090 US
SUMMARY:*Community Summer Kick-Off Dance*
END:VEVENT
END:VCALENDAR
