BEGIN:VCALENDAR
VERSION:2.0
PRODID:-//dsapgh.org//NONSGML kigkonsult.se iCalcreator 2.30.10//
CALSCALE:GREGORIAN
METHOD:PUBLISH
UID:24d072d0-f1b5-46af-bc61-3ea429f515b8
X-WR-CALDESC:Join us for our quarterly DSAP Dad's Meetup on Wednesday\, May
  22 at Burgatory Waterfront (located at 299 West Bridge St\, Homestead\, P
 A 15120) starting at 6:30pm. We have reserved a table for DSAP\, so join t
 o connect with other dads over the common bond of parenting a child with D
 own syndrome. \n\nRSVP using the link above.
X-WR-RELCALID:7f2fae21f6ef1932ea28b17d567b562e
X-WR-TIMEZONE:America/New_York
BEGIN:VTIMEZONE
TZID:America/New_York
BEGIN:STANDARD
TZNAME:EST
DTSTART:20231105T020000
TZOFFSETFROM:-0400
TZOFFSETTO:-0500
RDATE:20241103T020000
RDATE:20251102T020000
END:STANDARD
BEGIN:DAYLIGHT
TZNAME:EDT
DTSTART:20240310T020000
TZOFFSETFROM:-0500
TZOFFSETTO:-0400
RDATE:20250309T020000
END:DAYLIGHT
END:VTIMEZONE
BEGIN:VEVENT
UID:31c5ccd1-112b-4ff6-82fc-fc378fc994d7
DTSTAMP:20260426T041602Z
DESCRIPTION:Join us for our quarterly DSAP Dad's Meetup on Wednesday\, May 
 22 at Burgatory Waterfront (located at 299 West Bridge St\, Homestead\, PA
  15120) starting at 6:30pm. We have reserved a table for DSAP\, so join to
  connect with other dads over the common bond of parenting a child with Do
 wn syndrome. \n\nRSVP using the link above.
DTSTART;TZID=America/New_York:20240522T183000
DTEND;TZID=America/New_York:20240522T210000
LOCATION:Burgatory Waterfront\, 299 West Bridge St\, Homestead\, PA 15120 U
 S
SUMMARY:DSAP Dad's Meetup at Burgatory Waterfront
END:VEVENT
END:VCALENDAR
