BEGIN:VCALENDAR
VERSION:2.0
PRODID:-//dsapgh.org//NONSGML kigkonsult.se iCalcreator 2.30.10//
CALSCALE:GREGORIAN
METHOD:PUBLISH
UID:3e9bdb34-6c6e-4240-a09f-650f5884483e
X-WR-CALDESC:*Sharing this webinar from the PEAL Center*\nJoin the PEAL You
 th Team in exploring what's important to know about where you work.\n\n
X-WR-RELCALID:b5b0d4e4c645a163f0cfb5f95eef8ae4
X-WR-TIMEZONE:America/New_York
BEGIN:VTIMEZONE
TZID:America/New_York
BEGIN:STANDARD
TZNAME:EST
DTSTART:20231105T020000
TZOFFSETFROM:-0400
TZOFFSETTO:-0500
RDATE:20241103T020000
RDATE:20251102T020000
END:STANDARD
BEGIN:DAYLIGHT
TZNAME:EDT
DTSTART:20240310T020000
TZOFFSETFROM:-0500
TZOFFSETTO:-0400
RDATE:20250309T020000
END:DAYLIGHT
END:VTIMEZONE
BEGIN:VEVENT
UID:1c9188e4-53cd-4541-b15c-03aa0442df63
DTSTAMP:20260426T041921Z
DESCRIPTION:*Sharing this webinar from the PEAL Center*\nJoin the PEAL Yout
 h Team in exploring what's important to know about where you work.\n\n
DTSTART;TZID=America/New_York:20240522T180000
DTEND;TZID=America/New_York:20240522T190000
LOCATION:https://www.tfaforms.com/5115516
SUMMARY:*Employment Webinar: What's important to know about where you work?
 *
END:VEVENT
END:VCALENDAR
