BEGIN:VCALENDAR
VERSION:2.0
PRODID:-//dsapgh.org//NONSGML kigkonsult.se iCalcreator 2.30.10//
CALSCALE:GREGORIAN
METHOD:PUBLISH
UID:bb68b6e5-6041-49a4-a5f9-a217117efe7f
X-WR-CALDESC:If you are a young adult with Down syndrome age 18+ or older\,
  join the Down Syndrome Association of Pittsburgh for a Young Adult Connec
 tion event on Wednesday\, May 1 beginning at 6:30pm at Coop De Ville locat
 ed at 2305 Smallman St. Pittsburgh\, PA 15222. \n\nDSAP has reserved the V
 IP lounge and duckpin bowling lanes for young adults to connect with new a
 nd old friends! Each individual with Down syndrome will also receive 1 dri
 nk ticket to use on any beverage (must be 21+ years old and provide valid 
 ID if planning to get an alcoholic beverage).
X-WR-RELCALID:3f1a4dc6694887c4b1ec44d53c4be958
X-WR-TIMEZONE:America/New_York
BEGIN:VTIMEZONE
TZID:America/New_York
BEGIN:STANDARD
TZNAME:EST
DTSTART:20231105T020000
TZOFFSETFROM:-0400
TZOFFSETTO:-0500
RDATE:20241103T020000
END:STANDARD
BEGIN:DAYLIGHT
TZNAME:EDT
DTSTART:20240310T020000
TZOFFSETFROM:-0500
TZOFFSETTO:-0400
RDATE:20250309T020000
END:DAYLIGHT
END:VTIMEZONE
BEGIN:VEVENT
UID:02d60e78-4c0a-4dba-9bf5-3e5f21e37673
DTSTAMP:20260426T042359Z
DESCRIPTION:If you are a young adult with Down syndrome age 18+ or older\, 
 join the Down Syndrome Association of Pittsburgh for a Young Adult Connect
 ion event on Wednesday\, May 1 beginning at 6:30pm at Coop De Ville locate
 d at 2305 Smallman St. Pittsburgh\, PA 15222. \n\nDSAP has reserved the VI
 P lounge and duckpin bowling lanes for young adults to connect with new an
 d old friends! Each individual with Down syndrome will also receive 1 drin
 k ticket to use on any beverage (must be 21+ years old and provide valid I
 D if planning to get an alcoholic beverage).
DTSTART;TZID=America/New_York:20240501T180000
DTEND;TZID=America/New_York:20240501T200000
LOCATION:Coop de Ville (VIP Lounge) - 2305 Smallman St. Pittsburgh\, PA 152
 22
SUMMARY:DSAP Young Adult Connection at Coop de Ville
END:VEVENT
END:VCALENDAR
