BEGIN:VCALENDAR
VERSION:2.0
PRODID:-//dsapgh.org//NONSGML kigkonsult.se iCalcreator 2.30.10//
CALSCALE:GREGORIAN
METHOD:PUBLISH
UID:5dc95b26-d7d7-4b84-b823-662c545806c6
X-WR-CALDESC:Come play\, connect\, and have fun with other families on Satu
 rdays from 10am-Noon. Bring siblings along\, and we’ll have blankets sprea
 d out for the babies and toddlers too. We can't wait to see you!
X-WR-RELCALID:52298d3b0c6cc751f5344b4afe464a38
X-WR-TIMEZONE:America/New_York
BEGIN:VTIMEZONE
TZID:America/New_York
BEGIN:STANDARD
TZNAME:EST
DTSTART:20251102T020000
TZOFFSETFROM:-0400
TZOFFSETTO:-0500
RDATE:20261101T020000
END:STANDARD
BEGIN:DAYLIGHT
TZNAME:EDT
DTSTART:20260308T020000
TZOFFSETFROM:-0500
TZOFFSETTO:-0400
RDATE:20270314T020000
END:DAYLIGHT
END:VTIMEZONE
BEGIN:VEVENT
UID:e4e5429a-e723-48c8-a9d9-82bbfbd22e4a
DTSTAMP:20260425T125048Z
DESCRIPTION:Come play\, connect\, and have fun with other families on Satur
 days from 10am-Noon. Bring siblings along\, and we’ll have blankets spread
  out for the babies and toddlers too. We can't wait to see you!
DTSTART;TZID=America/New_York:20260502T100000
DTEND;TZID=America/New_York:20260502T120000
LOCATION:Murrysville Community Park\, 4056 Wiestertown Rd.\, Export\, AL 15
 632 US
SUMMARY:Playground Pop Up - Murrysville Community Park Playground
END:VEVENT
END:VCALENDAR
